BEGIN:VCALENDAR
VERSION:2.0
PRODID:-//d&#039;Haus vum Vëlo - ECPv6.15.20//NONSGML v1.0//EN
CALSCALE:GREGORIAN
METHOD:PUBLISH
X-WR-CALNAME:d&#039;Haus vum Vëlo
X-ORIGINAL-URL:https://hausvumvelo.lu
X-WR-CALDESC:Évènements pour d&#039;Haus vum Vëlo
REFRESH-INTERVAL;VALUE=DURATION:PT1H
X-Robots-Tag:noindex
X-PUBLISHED-TTL:PT1H
BEGIN:VTIMEZONE
TZID:UTC
BEGIN:STANDARD
TZOFFSETFROM:+0000
TZOFFSETTO:+0000
TZNAME:UTC
DTSTART:20230101T000000
END:STANDARD
END:VTIMEZONE
BEGIN:VEVENT
DTSTART;TZID=UTC:20240705T150000
DTEND;TZID=UTC:20240705T180000
DTSTAMP:20260421T070331
CREATED:20240619T154328Z
LAST-MODIFIED:20240630T210030Z
UID:544-1720191600-1720202400@hausvumvelo.lu
SUMMARY:Forum des Jeunes - Jugendforum Metzeschmelz
DESCRIPTION:Recycle Planet / Atelier de réparation de vélos | Atelier\n\n\n\nven.\, juil. 05\, 2024\, 15:00 – 18:00 (CEST)\n\nProximité Maison Projet Metzeschmelz\n\n\n\n\n\n\n\n\n\nAmène ton vélo ! Les passionnés de la Haus vum Vëlo et le Schëfflenger Jugendhaus vont le remettre sur pied.\nTu veux apprendre à rouler à vélo? Pas de problème\, il y aura aussi une Bike School organisée par Haus vum Vëlo. \n\nPlus d’information sur le site de l’événement.
URL:https://hausvumvelo.lu/event/jugend-festival-metzerschmeltz/
LOCATION:Metzeschmelz\, 4149 Esch-sur-Alzette\, Esch-sur-Alzette\, 4149\, Luxembourg
ATTACH;FMTTYPE=image/jpeg:https://hausvumvelo.lu/wp-content/uploads/2024/06/jugendforum_square_FR-scaled.jpeg
END:VEVENT
END:VCALENDAR