BEGIN:VCALENDAR
VERSION:2.0
PRODID:-//d&#039;Haus vum Vëlo - ECPv6.15.20//NONSGML v1.0//EN
CALSCALE:GREGORIAN
METHOD:PUBLISH
X-WR-CALNAME:d&#039;Haus vum Vëlo
X-ORIGINAL-URL:https://hausvumvelo.lu
X-WR-CALDESC:Évènements pour d&#039;Haus vum Vëlo
REFRESH-INTERVAL;VALUE=DURATION:PT1H
X-Robots-Tag:noindex
X-PUBLISHED-TTL:PT1H
BEGIN:VTIMEZONE
TZID:UTC
BEGIN:STANDARD
TZOFFSETFROM:+0000
TZOFFSETTO:+0000
TZNAME:UTC
DTSTART:20230101T000000
END:STANDARD
END:VTIMEZONE
BEGIN:VEVENT
DTSTART;VALUE=DATE:20240913
DTEND;VALUE=DATE:20240914
DTSTAMP:20260420T215104
CREATED:20240723T110536Z
LAST-MODIFIED:20240723T110536Z
UID:636-1726185600-1726271999@hausvumvelo.lu
SUMMARY:Uni.lu : Welcome Day
DESCRIPTION:
URL:https://hausvumvelo.lu/event/uni-lu-welcome-day/
LOCATION:Université de Belval\, Université de Belval\, Esch-sur-Alzette\, Luxembourg
END:VEVENT
BEGIN:VEVENT
DTSTART;TZID=UTC:20240920T180000
DTEND;TZID=UTC:20240920T230000
DTSTAMP:20260420T215104
CREATED:20240723T110339Z
LAST-MODIFIED:20240904T132138Z
UID:631-1726855200-1726873200@hausvumvelo.lu
SUMMARY:Inauguration de la Haus vum Vëlo
DESCRIPTION:
URL:https://hausvumvelo.lu/event/inauguration-de-la-haus-vum-velo/
LOCATION:d’Haus vum Vëlo\, Gare de Belval\, Esch-sur-Alzette\, Luxembourg
ORGANIZER;CN="d'Haus vum V%C3%ABlo":MAILTO:info@hausvumvelo.lu
END:VEVENT
BEGIN:VEVENT
DTSTART;VALUE=DATE:20240922
DTEND;VALUE=DATE:20240923
DTSTAMP:20260420T215104
CREATED:20240723T110445Z
LAST-MODIFIED:20240723T110445Z
UID:633-1726963200-1727049599@hausvumvelo.lu
SUMMARY:Journée de la Mobilité
DESCRIPTION:
URL:https://hausvumvelo.lu/event/journee-de-la-mobilite/
LOCATION:Place des sacrifiés\, Place des Sacrifiés\, Esch-sur-Alzette\, Luxembourg
END:VEVENT
END:VCALENDAR